BEGIN:VCALENDAR
VERSION:2.0
PRODID:-//Teamsters Local 988 - ECPv6.15.20//NONSGML v1.0//EN
CALSCALE:GREGORIAN
METHOD:PUBLISH
X-WR-CALNAME:Teamsters Local 988
X-ORIGINAL-URL:https://teamster988.org
X-WR-CALDESC:Events for Teamsters Local 988
REFRESH-INTERVAL;VALUE=DURATION:PT1H
X-Robots-Tag:noindex
X-PUBLISHED-TTL:PT1H
BEGIN:VTIMEZONE
TZID:America/Chicago
BEGIN:DAYLIGHT
TZOFFSETFROM:-0600
TZOFFSETTO:-0500
TZNAME:CDT
DTSTART:20240310T080000
END:DAYLIGHT
BEGIN:STANDARD
TZOFFSETFROM:-0500
TZOFFSETTO:-0600
TZNAME:CST
DTSTART:20241103T070000
END:STANDARD
BEGIN:DAYLIGHT
TZOFFSETFROM:-0600
TZOFFSETTO:-0500
TZNAME:CDT
DTSTART:20250309T080000
END:DAYLIGHT
BEGIN:STANDARD
TZOFFSETFROM:-0500
TZOFFSETTO:-0600
TZNAME:CST
DTSTART:20251102T070000
END:STANDARD
BEGIN:DAYLIGHT
TZOFFSETFROM:-0600
TZOFFSETTO:-0500
TZNAME:CDT
DTSTART:20260308T080000
END:DAYLIGHT
BEGIN:STANDARD
TZOFFSETFROM:-0500
TZOFFSETTO:-0600
TZNAME:CST
DTSTART:20261101T070000
END:STANDARD
BEGIN:DAYLIGHT
TZOFFSETFROM:-0600
TZOFFSETTO:-0500
TZNAME:CDT
DTSTART:20270314T080000
END:DAYLIGHT
BEGIN:STANDARD
TZOFFSETFROM:-0500
TZOFFSETTO:-0600
TZNAME:CST
DTSTART:20271107T070000
END:STANDARD
END:VTIMEZONE
BEGIN:VEVENT
DTSTART;TZID=America/Chicago:20251019T100000
DTEND;TZID=America/Chicago:20251019T110000
DTSTAMP:20260420T003618
CREATED:20240429T145450Z
LAST-MODIFIED:20251016T192711Z
UID:4164-1760868000-1760871600@teamster988.org
SUMMARY:General Membership Meeting
DESCRIPTION:Attention Members: Local 988’s next General Membership Meeting is on Sunday\, October 19th. \n\n\n\nOur Stewards meeting will be held beforehand at 9:00 a.m. \n\n\n\nImportant information for all members will be presented\, and coffee and donuts will be provided.
URL:https://teamster988.org/event/general-membership-meeting-2/
CATEGORIES:Membership Meetings
END:VEVENT
BEGIN:VEVENT
DTSTART;TZID=America/Chicago:20251019T110000
DTEND;TZID=America/Chicago:20251019T140000
DTSTAMP:20260420T003618
CREATED:20241112T165012Z
LAST-MODIFIED:20251016T192354Z
UID:4563-1760871600-1760882400@teamster988.org
SUMMARY:Teamcare Family Health Fair
DESCRIPTION:This Health Fair is FREE for all Teamster members and their families and will begin immediately after the General Membership meeting.Services provided at the Health Fair include Flu and B-12 shots by Passport Health\, as well as comprehensive blood panel screenings from Labcorp. Other health and wellness providers from our area will be on-site to answer questions and promote their services. Advanced registration required for vaccines\, B-12 shots\, and blood screenings.
URL:https://teamster988.org/event/teamcare-family-health-fair/
LOCATION:4303 N. Sam Houston Parkway East\, Houston\, TX
END:VEVENT
BEGIN:VEVENT
DTSTART;TZID=America/Chicago:20251113T110000
DTEND;TZID=America/Chicago:20251113T120000
DTSTAMP:20260420T003618
CREATED:20250109T200738Z
LAST-MODIFIED:20251030T191840Z
UID:4570-1763031600-1763035200@teamster988.org
SUMMARY:Retirees Club Meeting
DESCRIPTION:Lunch will be provided by Local 988. Retirees may bring a dessert.
URL:https://teamster988.org/event/retirees-club-meeting/
CATEGORIES:Retirees Club
END:VEVENT
BEGIN:VEVENT
DTSTART;TZID=America/Chicago:20251116T100000
DTEND;TZID=America/Chicago:20251116T110000
DTSTAMP:20260420T003618
CREATED:20251020T130600Z
LAST-MODIFIED:20251030T191138Z
UID:4626-1763287200-1763290800@teamster988.org
SUMMARY:General Membership Meeting
DESCRIPTION:Important information for all members will be presented\, and coffee and donuts will be provided. Our Stewards meeting will be held beforehand at 9:00 a.m.  \n\n\n\nGeneral Membership Meetings are held on the 3rd Sunday of the month unless otherwise noted.
URL:https://teamster988.org/event/general-membership-meeting-3/
CATEGORIES:Membership Meetings
END:VEVENT
BEGIN:VEVENT
DTSTART;TZID=America/Chicago:20260108T110000
DTEND;TZID=America/Chicago:20260108T120000
DTSTAMP:20260420T003618
CREATED:20251030T192530Z
LAST-MODIFIED:20260105T153411Z
UID:4698-1767870000-1767873600@teamster988.org
SUMMARY:Retirees Club Meeting
DESCRIPTION:Lunch will be provided by Local 988. Retirees may bring a dessert.
URL:https://teamster988.org/event/retirees-club-meeting-2/
END:VEVENT
BEGIN:VEVENT
DTSTART;TZID=America/Chicago:20260110T090000
DTEND;TZID=America/Chicago:20260110T120000
DTSTAMP:20260420T003618
CREATED:20260105T154832Z
LAST-MODIFIED:20260105T154834Z
UID:4742-1768035600-1768046400@teamster988.org
SUMMARY:Nominations For Delegates & Alternate Delegates to the June 2026 IBT Convention
DESCRIPTION:Nomination of candidates for 9 Delegates and 9 Alternate Delegates to the June 2026International Brotherhood of Teamsters Convention in Las Vegas\, NV\, will be held in the Local 988 Meeting Hall on Saturday\, January 10th.  \n\n\n\nhttps://teamster988.org/wp-content/uploads/Local-988-DEL-ALT-Notice-of-Nominations-English-Version.pdf
URL:https://teamster988.org/event/nominations-for-delegates-alternate-delegates-to-the-june-2026-ibt-convention/
END:VEVENT
BEGIN:VEVENT
DTSTART;TZID=America/Chicago:20260411T110000
DTEND;TZID=America/Chicago:20260411T160000
DTSTAMP:20260420T003618
CREATED:20260409T132736Z
LAST-MODIFIED:20260409T132740Z
UID:4786-1775905200-1775923200@teamster988.org
SUMMARY:13th Annual Membership Appreciation Barbecue
DESCRIPTION:Local 988 Teamsters! President Robert Mele invites our members and their immediate families to attend our 13th Annual Membership Appreciation Barbecue. It’s a fun-filled day of food\, family\, and fellowship. We hope to see you there!
URL:https://teamster988.org/event/13th-annual-membership-appreciation-barbecue/
END:VEVENT
BEGIN:VEVENT
DTSTART;TZID=America/Chicago:20260416T110000
DTEND;TZID=America/Chicago:20260416T130000
DTSTAMP:20260420T003618
CREATED:20260409T132329Z
LAST-MODIFIED:20260409T132333Z
UID:4780-1776337200-1776344400@teamster988.org
SUMMARY:Retirees Meeting
DESCRIPTION:Lunch will be provided by Local 988. Retirees may bring a dessert to share with the group.
URL:https://teamster988.org/event/retirees-meeting/
END:VEVENT
BEGIN:VEVENT
DTSTART;TZID=America/Chicago:20260419T100000
DTEND;TZID=America/Chicago:20260419T110000
DTSTAMP:20260420T003618
CREATED:20251030T192124Z
LAST-MODIFIED:20260409T131554Z
UID:4633-1776592800-1776596400@teamster988.org
SUMMARY:General Membership Meeting
DESCRIPTION:Important information for all members will be presented\, and coffee and donuts will be provided. Our Stewards meeting will be held beforehand at 9:00 a.m.  \n\n\n\nGeneral Membership Meetings are held on the 3rd Sunday of the month unless otherwise noted.
URL:https://teamster988.org/event/general-membership-meeting-4/
CATEGORIES:Membership Meetings
END:VEVENT
BEGIN:VEVENT
DTSTART;TZID=America/Chicago:20260514T110000
DTEND;TZID=America/Chicago:20260514T130000
DTSTAMP:20260420T003618
CREATED:20260409T132507Z
LAST-MODIFIED:20260409T132511Z
UID:4784-1778756400-1778763600@teamster988.org
SUMMARY:Retirees Meeting
DESCRIPTION:Lunch will be provided by Local 988. Retirees may bring a dessert to share with the group.
URL:https://teamster988.org/event/retirees-meeting-2/
END:VEVENT
BEGIN:VEVENT
DTSTART;TZID=America/Chicago:20260517T100000
DTEND;TZID=America/Chicago:20260517T110000
DTSTAMP:20260420T003618
CREATED:20260409T131847Z
LAST-MODIFIED:20260409T131901Z
UID:4778-1779012000-1779015600@teamster988.org
SUMMARY:General Membership Meeting
DESCRIPTION:Important information for all members will be presented\, and coffee and donuts will be provided. Our Stewards meeting will be held beforehand at 9:00 a.m. \n\n\n\nGeneral Membership Meetings are held on the 3rd Sunday of the month unless otherwise noted.
URL:https://teamster988.org/event/general-membership-meeting-5/
CATEGORIES:Membership Meetings
END:VEVENT
END:VCALENDAR